BEGIN:VCALENDAR
VERSION:2.0
PRODID:Calumed
BEGIN:VEVENT
DTEND:20260830Z
UID:Calumed-1-3782
DTSTAMP:20260422T132442Z
LOCATION:Bispingen
DESCRIPTION;LANGUAGE=de-DE:
URL;VALUE=URI:
SUMMARY:Kreis der Männer
DTSTART:20260828Z
END:VEVENT
END:VCALENDAR
