BEGIN:VCALENDAR
VERSION:2.0
PRODID:Calumed
BEGIN:VEVENT
DTEND:20261122Z
UID:Calumed-1-3783
DTSTAMP:20260422T132442Z
LOCATION:Bispingen
DESCRIPTION;LANGUAGE=de-DE:
URL;VALUE=URI:
SUMMARY:Kreis der Männer
DTSTART:20261120Z
END:VEVENT
END:VCALENDAR
